BEGIN:VCALENDAR
VERSION:2.0
PRODID:-//Paweł Lisiecki - ECPv6.15.20//NONSGML v1.0//EN
CALSCALE:GREGORIAN
METHOD:PUBLISH
X-ORIGINAL-URL:https://pawellisiecki.pl
X-WR-CALDESC:Wydarzenia dla Paweł Lisiecki
REFRESH-INTERVAL;VALUE=DURATION:PT1H
X-Robots-Tag:noindex
X-PUBLISHED-TTL:PT1H
BEGIN:VTIMEZONE
TZID:Europe/Warsaw
BEGIN:DAYLIGHT
TZOFFSETFROM:+0100
TZOFFSETTO:+0200
TZNAME:CEST
DTSTART:20210328T010000
END:DAYLIGHT
BEGIN:STANDARD
TZOFFSETFROM:+0200
TZOFFSETTO:+0100
TZNAME:CET
DTSTART:20211031T010000
END:STANDARD
BEGIN:DAYLIGHT
TZOFFSETFROM:+0100
TZOFFSETTO:+0200
TZNAME:CEST
DTSTART:20220327T010000
END:DAYLIGHT
BEGIN:STANDARD
TZOFFSETFROM:+0200
TZOFFSETTO:+0100
TZNAME:CET
DTSTART:20221030T010000
END:STANDARD
BEGIN:DAYLIGHT
TZOFFSETFROM:+0100
TZOFFSETTO:+0200
TZNAME:CEST
DTSTART:20230326T010000
END:DAYLIGHT
BEGIN:STANDARD
TZOFFSETFROM:+0200
TZOFFSETTO:+0100
TZNAME:CET
DTSTART:20231029T010000
END:STANDARD
BEGIN:DAYLIGHT
TZOFFSETFROM:+0100
TZOFFSETTO:+0200
TZNAME:CEST
DTSTART:20240331T010000
END:DAYLIGHT
BEGIN:STANDARD
TZOFFSETFROM:+0200
TZOFFSETTO:+0100
TZNAME:CET
DTSTART:20241027T010000
END:STANDARD
END:VTIMEZONE
BEGIN:VEVENT
DTSTART;TZID=Europe/Warsaw:20230514T140000
DTEND;TZID=Europe/Warsaw:20230514T140000
DTSTAMP:20260422T180449
CREATED:20240518T082630Z
LAST-MODIFIED:20240518T111835Z
UID:6981-1684072800-1684072800@pawellisiecki.pl
SUMMARY:Basia Piotrowska
DESCRIPTION:Wrocław
URL:https://pawellisiecki.pl/event/basia-piotrowska-35/
LOCATION:Vertigo Jazz Club & Restaurant\, Oławska 13\, Wrocław\, PL
END:VEVENT
BEGIN:VEVENT
DTSTART;TZID=Europe/Warsaw:20230512T140000
DTEND;TZID=Europe/Warsaw:20230512T140000
DTSTAMP:20260422T180449
CREATED:20240518T082631Z
LAST-MODIFIED:20240518T111843Z
UID:6982-1683900000-1683900000@pawellisiecki.pl
SUMMARY:Basia Piotrowska
DESCRIPTION:Wrocław
URL:https://pawellisiecki.pl/event/basia-piotrowska-36/
LOCATION:Vertigo Jazz Club & Restaurant\, Oławska 13\, Wrocław\, PL
END:VEVENT
BEGIN:VEVENT
DTSTART;TZID=Europe/Warsaw:20230510T120000
DTEND;TZID=Europe/Warsaw:20230510T120000
DTSTAMP:20260422T180449
CREATED:20240518T082631Z
LAST-MODIFIED:20240518T111847Z
UID:6983-1683720000-1683720000@pawellisiecki.pl
SUMMARY:Basia Piotrowska
DESCRIPTION:Wrocław
URL:https://pawellisiecki.pl/event/basia-piotrowska-37/
LOCATION:CK Agora\, Serbska 5a\, Wrocław\, PL
END:VEVENT
BEGIN:VEVENT
DTSTART;TZID=Europe/Warsaw:20230503T200000
DTEND;TZID=Europe/Warsaw:20230503T200000
DTSTAMP:20260422T180449
CREATED:20240518T082631Z
LAST-MODIFIED:20240518T111856Z
UID:6984-1683144000-1683144000@pawellisiecki.pl
SUMMARY:Orkiestra Samanta
DESCRIPTION:Chobienia
URL:https://pawellisiecki.pl/event/orkiestra-samanta-19/
LOCATION:Chobienia\, Chobienia\, PL
END:VEVENT
BEGIN:VEVENT
DTSTART;TZID=Europe/Warsaw:20230423T140000
DTEND;TZID=Europe/Warsaw:20230423T140000
DTSTAMP:20260422T180449
CREATED:20240518T082632Z
LAST-MODIFIED:20240518T111952Z
UID:6985-1682258400-1682258400@pawellisiecki.pl
SUMMARY:Basia Piotrowska
DESCRIPTION:Wrocław
URL:https://pawellisiecki.pl/event/basia-piotrowska-38/
LOCATION:Vertigo Jazz Club & Restaurant\, Oławska 13\, Wrocław\, PL
END:VEVENT
BEGIN:VEVENT
DTSTART;TZID=Europe/Warsaw:20230422T200000
DTEND;TZID=Europe/Warsaw:20230422T200000
DTSTAMP:20260422T180449
CREATED:20240518T082645Z
LAST-MODIFIED:20240518T112005Z
UID:6986-1682193600-1682193600@pawellisiecki.pl
SUMMARY:Angelika Klimek
DESCRIPTION:Wrocław
URL:https://pawellisiecki.pl/event/angelika-klimek-3/
LOCATION:Whiskey in the Jar Wrocław\, Rynek 23\,24\, Wrocław\, PL
END:VEVENT
BEGIN:VEVENT
DTSTART;TZID=Europe/Warsaw:20230421T140000
DTEND;TZID=Europe/Warsaw:20230421T140000
DTSTAMP:20260422T180449
CREATED:20240518T082646Z
LAST-MODIFIED:20240518T112012Z
UID:6987-1682085600-1682085600@pawellisiecki.pl
SUMMARY:Basia Piotrowska
DESCRIPTION:Wrocław
URL:https://pawellisiecki.pl/event/basia-piotrowska-39/
LOCATION:Vertigo Jazz Club & Restaurant\, Oławska 13\, Wrocław\, PL
END:VEVENT
BEGIN:VEVENT
DTSTART;TZID=Europe/Warsaw:20230414T200000
DTEND;TZID=Europe/Warsaw:20230414T200000
DTSTAMP:20260422T180449
CREATED:20240518T082646Z
LAST-MODIFIED:20240518T112020Z
UID:6988-1681502400-1681502400@pawellisiecki.pl
SUMMARY:Orkiestra Samanta
DESCRIPTION:Wrocław
URL:https://pawellisiecki.pl/event/orkiestra-samanta-20/
LOCATION:Stary Klasztor\, Purkyniego 1\, Wrocław\, PL
END:VEVENT
BEGIN:VEVENT
DTSTART;TZID=Europe/Warsaw:20230319T140000
DTEND;TZID=Europe/Warsaw:20230319T140000
DTSTAMP:20260422T180449
CREATED:20240518T082646Z
LAST-MODIFIED:20240518T112027Z
UID:6989-1679234400-1679234400@pawellisiecki.pl
SUMMARY:Basia Piotrowska
DESCRIPTION:Wrocław
URL:https://pawellisiecki.pl/event/basia-piotrowska-40/
LOCATION:Vertigo Jazz Club & Restaurant\, Oławska 13\, Wrocław\, PL
END:VEVENT
BEGIN:VEVENT
DTSTART;TZID=Europe/Warsaw:20230317T140000
DTEND;TZID=Europe/Warsaw:20230317T140000
DTSTAMP:20260422T180449
CREATED:20240518T082646Z
LAST-MODIFIED:20240518T112032Z
UID:6990-1679061600-1679061600@pawellisiecki.pl
SUMMARY:Basia Piotrowska
DESCRIPTION:Wrocław
URL:https://pawellisiecki.pl/event/basia-piotrowska-41/
LOCATION:Vertigo Jazz Club & Restaurant\, Oławska 13\, Wrocław\, PL
END:VEVENT
BEGIN:VEVENT
DTSTART;TZID=Europe/Warsaw:20230303T230000
DTEND;TZID=Europe/Warsaw:20230303T230000
DTSTAMP:20260422T180449
CREATED:20240518T082701Z
LAST-MODIFIED:20240518T112037Z
UID:6991-1677884400-1677884400@pawellisiecki.pl
SUMMARY:Orkiestra Samanta
DESCRIPTION:Wrocław
URL:https://pawellisiecki.pl/event/orkiestra-samanta-21/
LOCATION:Stary Klasztor\, Purkyniego 1\, Wrocław\, PL
END:VEVENT
BEGIN:VEVENT
DTSTART;TZID=Europe/Warsaw:20230214T200000
DTEND;TZID=Europe/Warsaw:20230214T200000
DTSTAMP:20260422T180449
CREATED:20240518T082701Z
LAST-MODIFIED:20240518T112048Z
UID:6992-1676404800-1676404800@pawellisiecki.pl
SUMMARY:Basia Piotrowska
DESCRIPTION:Wrocław
URL:https://pawellisiecki.pl/event/basia-piotrowska-42/
LOCATION:Sztuka Na Miejscu\, Łaciarska 4\, Wrocław\, PL
END:VEVENT
BEGIN:VEVENT
DTSTART;TZID=Europe/Warsaw:20230212T140000
DTEND;TZID=Europe/Warsaw:20230212T140000
DTSTAMP:20260422T180449
CREATED:20240518T082701Z
LAST-MODIFIED:20240518T112052Z
UID:6993-1676210400-1676210400@pawellisiecki.pl
SUMMARY:Basia Piotrowska
DESCRIPTION:Wrocław
URL:https://pawellisiecki.pl/event/basia-piotrowska-43/
LOCATION:Vertigo Jazz Club & Restaurant\, Oławska 13\, Wrocław\, PL
END:VEVENT
BEGIN:VEVENT
DTSTART;TZID=Europe/Warsaw:20230211T140000
DTEND;TZID=Europe/Warsaw:20230211T140000
DTSTAMP:20260422T180449
CREATED:20240518T082702Z
LAST-MODIFIED:20240518T112109Z
UID:6994-1676124000-1676124000@pawellisiecki.pl
SUMMARY:Basia Piotrowska
DESCRIPTION:Wrocław
URL:https://pawellisiecki.pl/event/basia-piotrowska-44/
LOCATION:Vertigo Jazz Club & Restaurant\, Oławska 13\, Wrocław\, PL
END:VEVENT
BEGIN:VEVENT
DTSTART;TZID=Europe/Warsaw:20230128T190000
DTEND;TZID=Europe/Warsaw:20230128T190000
DTSTAMP:20260422T180449
CREATED:20240518T082702Z
LAST-MODIFIED:20240518T112118Z
UID:6995-1674932400-1674932400@pawellisiecki.pl
SUMMARY:Orkiestra Samanta
DESCRIPTION:Wrocław
URL:https://pawellisiecki.pl/event/orkiestra-samanta-22/
LOCATION:Stary Klasztor\, Purkyniego 1\, Wrocław\, PL
END:VEVENT
BEGIN:VEVENT
DTSTART;TZID=Europe/Warsaw:20230122T140000
DTEND;TZID=Europe/Warsaw:20230122T140000
DTSTAMP:20260422T180449
CREATED:20240518T082715Z
LAST-MODIFIED:20240518T112125Z
UID:6996-1674396000-1674396000@pawellisiecki.pl
SUMMARY:Basia Piotrowska
DESCRIPTION:Wrocław
URL:https://pawellisiecki.pl/event/basia-piotrowska-45/
LOCATION:Vertigo Jazz Club & Restaurant\, Oławska 13\, Wrocław\, PL
END:VEVENT
BEGIN:VEVENT
DTSTART;TZID=Europe/Warsaw:20230121T140000
DTEND;TZID=Europe/Warsaw:20230121T140000
DTSTAMP:20260422T180449
CREATED:20240518T082715Z
LAST-MODIFIED:20240518T112141Z
UID:6997-1674309600-1674309600@pawellisiecki.pl
SUMMARY:Basia Piotrowska
DESCRIPTION:Wrocław
URL:https://pawellisiecki.pl/event/basia-piotrowska-46/
LOCATION:Vertigo Jazz Club & Restaurant\, Oławska 13\, Wrocław\, PL
END:VEVENT
BEGIN:VEVENT
DTSTART;TZID=Europe/Warsaw:20230114T160000
DTEND;TZID=Europe/Warsaw:20230114T160000
DTSTAMP:20260422T180449
CREATED:20240518T082716Z
LAST-MODIFIED:20240518T112203Z
UID:6998-1673712000-1673712000@pawellisiecki.pl
SUMMARY:Lisiecki Trio
DESCRIPTION:Wrocław
URL:https://pawellisiecki.pl/event/lisiecki-trio-2/
LOCATION:Radio Wrocław\, Wrocław\, PL
END:VEVENT
BEGIN:VEVENT
DTSTART;TZID=Europe/Warsaw:20221231T210000
DTEND;TZID=Europe/Warsaw:20230101T000000
DTSTAMP:20260422T180449
CREATED:20240518T082716Z
LAST-MODIFIED:20240518T112212Z
UID:6999-1672520400-1672531200@pawellisiecki.pl
SUMMARY:Angelika Klimek
DESCRIPTION:Karpacz
URL:https://pawellisiecki.pl/event/angelika-klimek-4/
LOCATION:Hotel Gołębiewski Karpacz\, ul. Karkonoska 14\, Karpacz\, PL
END:VEVENT
BEGIN:VEVENT
DTSTART;TZID=Europe/Warsaw:20221217T190000
DTEND;TZID=Europe/Warsaw:20221217T190000
DTSTAMP:20260422T180449
CREATED:20240518T082716Z
LAST-MODIFIED:20240518T112219Z
UID:7000-1671303600-1671303600@pawellisiecki.pl
SUMMARY:Wrocławska Stepownia
DESCRIPTION:Wrocław
URL:https://pawellisiecki.pl/event/wroclawska-stepownia/
LOCATION:Klubokawiarnia Mleczarnia\, ul. Włodkowica 5\, Wrocław\, PL
END:VEVENT
BEGIN:VEVENT
DTSTART;TZID=Europe/Warsaw:20221209T190000
DTEND;TZID=Europe/Warsaw:20221209T190000
DTSTAMP:20260422T180449
CREATED:20240518T082731Z
LAST-MODIFIED:20240518T112230Z
UID:7001-1670612400-1670612400@pawellisiecki.pl
SUMMARY:Hoverla
DESCRIPTION:Żory
URL:https://pawellisiecki.pl/event/hoverla/
LOCATION:MOK Żory\, Żory\, PL
END:VEVENT
BEGIN:VEVENT
DTSTART;TZID=Europe/Warsaw:20221204T140000
DTEND;TZID=Europe/Warsaw:20221204T140000
DTSTAMP:20260422T180449
CREATED:20240518T082731Z
LAST-MODIFIED:20240518T112237Z
UID:7002-1670162400-1670162400@pawellisiecki.pl
SUMMARY:Basia Piotrowska
DESCRIPTION:Wrocław
URL:https://pawellisiecki.pl/event/basia-piotrowska-47/
LOCATION:Vertigo Jazz Club & Restaurant\, Oławska 13\, Wrocław\, PL
END:VEVENT
BEGIN:VEVENT
DTSTART;TZID=Europe/Warsaw:20221202T190000
DTEND;TZID=Europe/Warsaw:20221202T190000
DTSTAMP:20260422T180449
CREATED:20240518T082731Z
LAST-MODIFIED:20240518T112246Z
UID:7003-1670007600-1670007600@pawellisiecki.pl
SUMMARY:Paweł Lisiecki Quartet
DESCRIPTION:Wrocław
URL:https://pawellisiecki.pl/event/pawel-lisiecki-quartet-2/
LOCATION:Centrum Biblioteczno-Kulturalne Fama\, ul. Bolesława Krzywoustego 286\, Wrocław\, PL
END:VEVENT
BEGIN:VEVENT
DTSTART;TZID=Europe/Warsaw:20221120T140000
DTEND;TZID=Europe/Warsaw:20221120T140000
DTSTAMP:20260422T180449
CREATED:20240518T082731Z
LAST-MODIFIED:20240518T112253Z
UID:7004-1668952800-1668952800@pawellisiecki.pl
SUMMARY:Basia Piotrowska
DESCRIPTION:Wrocław
URL:https://pawellisiecki.pl/event/basia-piotrowska-48/
LOCATION:Vertigo Jazz Club & Restaurant\, Oławska 13\, Wrocław\, PL
END:VEVENT
BEGIN:VEVENT
DTSTART;TZID=Europe/Warsaw:20221109T144500
DTEND;TZID=Europe/Warsaw:20221109T144500
DTSTAMP:20260422T180449
CREATED:20240518T082732Z
LAST-MODIFIED:20240518T112259Z
UID:7005-1668005100-1668005100@pawellisiecki.pl
SUMMARY:Basia Piotrowska
DESCRIPTION:Wrocław
URL:https://pawellisiecki.pl/event/basia-piotrowska-49/
LOCATION:HulaPlay Stabłowice\, Wrocław\, PL
END:VEVENT
BEGIN:VEVENT
DTSTART;TZID=Europe/Warsaw:20221105T190000
DTEND;TZID=Europe/Warsaw:20221105T190000
DTSTAMP:20260422T180449
CREATED:20240518T082745Z
LAST-MODIFIED:20240518T112343Z
UID:7006-1667674800-1667674800@pawellisiecki.pl
SUMMARY:Gaya Rosa
DESCRIPTION:Wrocław
URL:https://pawellisiecki.pl/event/gaya-rosa-2/
LOCATION:Forest Bar\, Wrocław\, PL
END:VEVENT
BEGIN:VEVENT
DTSTART;TZID=Europe/Warsaw:20221104T190000
DTEND;TZID=Europe/Warsaw:20221104T190000
DTSTAMP:20260422T180449
CREATED:20240518T082745Z
LAST-MODIFIED:20240518T112354Z
UID:7007-1667588400-1667588400@pawellisiecki.pl
SUMMARY:Orkiestra Samanta
DESCRIPTION:Żory
URL:https://pawellisiecki.pl/event/orkiestra-samanta-23/
LOCATION:MOK Żory\, Żory\, PL
END:VEVENT
BEGIN:VEVENT
DTSTART;TZID=Europe/Warsaw:20221016T140000
DTEND;TZID=Europe/Warsaw:20221016T140000
DTSTAMP:20260422T180449
CREATED:20240518T082746Z
LAST-MODIFIED:20240518T112401Z
UID:7008-1665928800-1665928800@pawellisiecki.pl
SUMMARY:Basia Piotrowska
DESCRIPTION:Wrocław
URL:https://pawellisiecki.pl/event/basia-piotrowska-50/
LOCATION:Vertigo Jazz Club & Restaurant\, Oławska 13\, Wrocław\, PL
END:VEVENT
BEGIN:VEVENT
DTSTART;TZID=Europe/Warsaw:20221014T200000
DTEND;TZID=Europe/Warsaw:20221014T200000
DTSTAMP:20260422T180449
CREATED:20240518T082746Z
LAST-MODIFIED:20240518T112408Z
UID:7009-1665777600-1665777600@pawellisiecki.pl
SUMMARY:Lisiecki Trio
DESCRIPTION:Warszawa
URL:https://pawellisiecki.pl/event/lisiecki-trio-3/
LOCATION:Sheraton Grand\, Regus - Warsaw Sheraton Plaza\, Warszawa\, PL
END:VEVENT
BEGIN:VEVENT
DTSTART;TZID=Europe/Warsaw:20221012T170000
DTEND;TZID=Europe/Warsaw:20221012T170000
DTSTAMP:20260422T180449
CREATED:20240518T082746Z
LAST-MODIFIED:20240518T112418Z
UID:7010-1665594000-1665594000@pawellisiecki.pl
SUMMARY:Basia Piotrowska
DESCRIPTION:Wrocław
URL:https://pawellisiecki.pl/event/basia-piotrowska-51/
LOCATION:Wrocławskie Centrum Opieki i Wychowania\, Wrocław\, PL
END:VEVENT
END:VCALENDAR