BEGIN:VCALENDAR
VERSION:2.0
PRODID:-//Paweł Lisiecki - ECPv6.15.20//NONSGML v1.0//EN
CALSCALE:GREGORIAN
METHOD:PUBLISH
X-ORIGINAL-URL:https://pawellisiecki.pl
X-WR-CALDESC:Wydarzenia dla Paweł Lisiecki
REFRESH-INTERVAL;VALUE=DURATION:PT1H
X-Robots-Tag:noindex
X-PUBLISHED-TTL:PT1H
BEGIN:VTIMEZONE
TZID:Europe/Warsaw
BEGIN:DAYLIGHT
TZOFFSETFROM:+0100
TZOFFSETTO:+0200
TZNAME:CEST
DTSTART:20200329T010000
END:DAYLIGHT
BEGIN:STANDARD
TZOFFSETFROM:+0200
TZOFFSETTO:+0100
TZNAME:CET
DTSTART:20201025T010000
END:STANDARD
BEGIN:DAYLIGHT
TZOFFSETFROM:+0100
TZOFFSETTO:+0200
TZNAME:CEST
DTSTART:20210328T010000
END:DAYLIGHT
BEGIN:STANDARD
TZOFFSETFROM:+0200
TZOFFSETTO:+0100
TZNAME:CET
DTSTART:20211031T010000
END:STANDARD
BEGIN:DAYLIGHT
TZOFFSETFROM:+0100
TZOFFSETTO:+0200
TZNAME:CEST
DTSTART:20220327T010000
END:DAYLIGHT
BEGIN:STANDARD
TZOFFSETFROM:+0200
TZOFFSETTO:+0100
TZNAME:CET
DTSTART:20221030T010000
END:STANDARD
BEGIN:DAYLIGHT
TZOFFSETFROM:+0100
TZOFFSETTO:+0200
TZNAME:CEST
DTSTART:20230326T010000
END:DAYLIGHT
BEGIN:STANDARD
TZOFFSETFROM:+0200
TZOFFSETTO:+0100
TZNAME:CET
DTSTART:20231029T010000
END:STANDARD
END:VTIMEZONE
BEGIN:VEVENT
DTSTART;TZID=Europe/Warsaw:20220702T160000
DTEND;TZID=Europe/Warsaw:20220702T160000
DTSTAMP:20260423T014450
CREATED:20240518T082901Z
LAST-MODIFIED:20240518T112900Z
UID:7032-1656777600-1656777600@pawellisiecki.pl
SUMMARY:Orkiestra Samanta
DESCRIPTION:Wrocław
URL:https://pawellisiecki.pl/event/orkiestra-samanta-29/
LOCATION:Bulwar Xawerego Dunikowskiego\, Wrocław\, PL
END:VEVENT
BEGIN:VEVENT
DTSTART;TZID=Europe/Warsaw:20220626T160000
DTEND;TZID=Europe/Warsaw:20220626T160000
DTSTAMP:20260423T014450
CREATED:20240518T082901Z
LAST-MODIFIED:20240518T112911Z
UID:7033-1656259200-1656259200@pawellisiecki.pl
SUMMARY:Orkiestra Samanta
DESCRIPTION:Bydgoszcz
URL:https://pawellisiecki.pl/event/orkiestra-samanta-30/
LOCATION:Wyspa Młyńska w Bydgoszczy\, Bydgoszcz\, PL
END:VEVENT
BEGIN:VEVENT
DTSTART;TZID=Europe/Warsaw:20220624T200000
DTEND;TZID=Europe/Warsaw:20220624T200000
DTSTAMP:20260423T014450
CREATED:20240518T082901Z
LAST-MODIFIED:20240518T112917Z
UID:7034-1656100800-1656100800@pawellisiecki.pl
SUMMARY:Wojtek Kiełbasa
DESCRIPTION:Karpacz
URL:https://pawellisiecki.pl/event/wojtek-kielbasa-3/
LOCATION:Green Mountain Hotel\, Sarnia 21\, Karpacz\, PL
END:VEVENT
BEGIN:VEVENT
DTSTART;TZID=Europe/Warsaw:20220619T200000
DTEND;TZID=Europe/Warsaw:20220619T200000
DTSTAMP:20260423T014450
CREATED:20240518T082902Z
LAST-MODIFIED:20240518T112925Z
UID:7035-1655668800-1655668800@pawellisiecki.pl
SUMMARY:Basia Piotrowska
DESCRIPTION:Wrocław
URL:https://pawellisiecki.pl/event/basia-piotrowska-53/
LOCATION:Vertigo Jazz Club & Restaurant\, Oławska 13\, Wrocław\, PL
END:VEVENT
BEGIN:VEVENT
DTSTART;TZID=Europe/Warsaw:20220611T180000
DTEND;TZID=Europe/Warsaw:20220611T180000
DTSTAMP:20260423T014450
CREATED:20240518T082916Z
LAST-MODIFIED:20240518T112937Z
UID:7036-1654970400-1654970400@pawellisiecki.pl
SUMMARY:Basia Piotrowska
DESCRIPTION:Wrocław
URL:https://pawellisiecki.pl/event/basia-piotrowska-54/
LOCATION:Konferencja Przestrzeni dla kobiet\, DB Hotel Wrocław Strzegomska 3\, Wrocław\, PL
END:VEVENT
BEGIN:VEVENT
DTSTART;TZID=Europe/Warsaw:20220611T160000
DTEND;TZID=Europe/Warsaw:20220611T160000
DTSTAMP:20260423T014450
CREATED:20240518T082916Z
LAST-MODIFIED:20240518T112941Z
UID:7037-1654963200-1654963200@pawellisiecki.pl
SUMMARY:Hoverla
DESCRIPTION:Wrocław
URL:https://pawellisiecki.pl/event/hoverla-4/
LOCATION:Stary Klasztor\, Purkyniego 1\, Wrocław\, PL
END:VEVENT
BEGIN:VEVENT
DTSTART;TZID=Europe/Warsaw:20220610T180000
DTEND;TZID=Europe/Warsaw:20220610T180000
DTSTAMP:20260423T014450
CREATED:20240518T082916Z
LAST-MODIFIED:20240518T112951Z
UID:7038-1654884000-1654884000@pawellisiecki.pl
SUMMARY:Lisiecki Trio
DESCRIPTION:Wrocław
URL:https://pawellisiecki.pl/event/lisiecki-trio-5/
LOCATION:Platinum Palace Boutique Hotel & SPA\, Powstańców Śląskich 204\, Wrocław\, PL
END:VEVENT
BEGIN:VEVENT
DTSTART;TZID=Europe/Warsaw:20220605T140000
DTEND;TZID=Europe/Warsaw:20220605T140000
DTSTAMP:20260423T014450
CREATED:20240518T082916Z
LAST-MODIFIED:20240518T113001Z
UID:7039-1654437600-1654437600@pawellisiecki.pl
SUMMARY:Basia Piotrowska
DESCRIPTION:Wrocław
URL:https://pawellisiecki.pl/event/basia-piotrowska-55/
LOCATION:Vertigo Jazz Club & Restaurant\, Oławska 13\, Wrocław\, PL
END:VEVENT
BEGIN:VEVENT
DTSTART;TZID=Europe/Warsaw:20220604T200000
DTEND;TZID=Europe/Warsaw:20220604T200000
DTSTAMP:20260423T014450
CREATED:20240518T082917Z
LAST-MODIFIED:20240518T113009Z
UID:7040-1654372800-1654372800@pawellisiecki.pl
SUMMARY:Tomasz Krajewski
DESCRIPTION:Łomnica
URL:https://pawellisiecki.pl/event/tomasz-krajewski-3/
LOCATION:Osada Śnieżka\, Ul. Spacerowa 13\, Łomnica\, PL
END:VEVENT
BEGIN:VEVENT
DTSTART;TZID=Europe/Warsaw:20220522T200000
DTEND;TZID=Europe/Warsaw:20220522T200000
DTSTAMP:20260423T014450
CREATED:20240518T082930Z
LAST-MODIFIED:20240518T113015Z
UID:7041-1653249600-1653249600@pawellisiecki.pl
SUMMARY:Wojtek Kiełbasa
DESCRIPTION:Wrocław
URL:https://pawellisiecki.pl/event/wojtek-kielbasa-4/
LOCATION:Vertigo Jazz Club & Restaurant\, Oławska 13\, Wrocław\, PL
END:VEVENT
BEGIN:VEVENT
DTSTART;TZID=Europe/Warsaw:20220521T090000
DTEND;TZID=Europe/Warsaw:20220521T090000
DTSTAMP:20260423T014450
CREATED:20240518T082931Z
LAST-MODIFIED:20240518T113037Z
UID:7042-1653123600-1653123600@pawellisiecki.pl
SUMMARY:Tomek Kubala
DESCRIPTION:Wrocław
URL:https://pawellisiecki.pl/event/tomek-kubala/
LOCATION:The Bridge Wroclaw – MGallery\, Plac Katedralny 8\, Wrocław\, PL
END:VEVENT
BEGIN:VEVENT
DTSTART;TZID=Europe/Warsaw:20220515T140000
DTEND;TZID=Europe/Warsaw:20220515T140000
DTSTAMP:20260423T014450
CREATED:20240518T082931Z
LAST-MODIFIED:20240518T113046Z
UID:7043-1652623200-1652623200@pawellisiecki.pl
SUMMARY:Basia Piotrowska
DESCRIPTION:Wrocław
URL:https://pawellisiecki.pl/event/basia-piotrowska-56/
LOCATION:Vertigo Jazz Club & Restaurant\, Oławska 13\, Wrocław\, PL
END:VEVENT
BEGIN:VEVENT
DTSTART;TZID=Europe/Warsaw:20220511T070000
DTEND;TZID=Europe/Warsaw:20220511T070000
DTSTAMP:20260423T014450
CREATED:20240518T082931Z
LAST-MODIFIED:20240518T113052Z
UID:7044-1652252400-1652252400@pawellisiecki.pl
SUMMARY:Lisiecki Trio
DESCRIPTION:Wrocław
URL:https://pawellisiecki.pl/event/lisiecki-trio-6/
LOCATION:ZOO Wrocław\, Wrocław\, PL
END:VEVENT
BEGIN:VEVENT
DTSTART;TZID=Europe/Warsaw:20220423T190000
DTEND;TZID=Europe/Warsaw:20220423T190000
DTSTAMP:20260423T014450
CREATED:20240518T082932Z
LAST-MODIFIED:20240518T113058Z
UID:7045-1650740400-1650740400@pawellisiecki.pl
SUMMARY:Paweł Lisiecki Quartet
DESCRIPTION:Wrocław
URL:https://pawellisiecki.pl/event/pawel-lisiecki-quartet-9/
LOCATION:Wrocławski Klub Formaty\, ul. Samborska 3-5\, Wrocław\, PL
END:VEVENT
BEGIN:VEVENT
DTSTART;TZID=Europe/Warsaw:20220410T140000
DTEND;TZID=Europe/Warsaw:20220410T140000
DTSTAMP:20260423T014450
CREATED:20240518T082945Z
LAST-MODIFIED:20240518T113111Z
UID:7046-1649599200-1649599200@pawellisiecki.pl
SUMMARY:Basia Piotrowska
DESCRIPTION:Wrocław
URL:https://pawellisiecki.pl/event/basia-piotrowska-57/
LOCATION:Vertigo Jazz Club & Restaurant\, Oławska 13\, Wrocław\, PL
END:VEVENT
BEGIN:VEVENT
DTSTART;TZID=Europe/Warsaw:20220303T200000
DTEND;TZID=Europe/Warsaw:20220306T000000
DTSTAMP:20260423T014450
CREATED:20240518T082945Z
LAST-MODIFIED:20240518T113158Z
UID:7047-1646337600-1646524800@pawellisiecki.pl
SUMMARY:Orkiestra Samanta
DESCRIPTION:Wrocław
URL:https://pawellisiecki.pl/event/orkiestra-samanta-31/
LOCATION:Stary Klasztor\, Purkyniego 1\, Wrocław\, PL
END:VEVENT
BEGIN:VEVENT
DTSTART;TZID=Europe/Warsaw:20220206T130000
DTEND;TZID=Europe/Warsaw:20220206T130000
DTSTAMP:20260423T014450
CREATED:20240518T082946Z
LAST-MODIFIED:20240518T113206Z
UID:7048-1644152400-1644152400@pawellisiecki.pl
SUMMARY:Basia Piotrowska
DESCRIPTION:Wrocław
URL:https://pawellisiecki.pl/event/basia-piotrowska-58/
LOCATION:Vertigo Jazz Club & Restaurant\, Oławska 13\, Wrocław\, PL
END:VEVENT
BEGIN:VEVENT
DTSTART;TZID=Europe/Warsaw:20220129T180000
DTEND;TZID=Europe/Warsaw:20220129T180000
DTSTAMP:20260423T014450
CREATED:20240518T082946Z
LAST-MODIFIED:20240518T113215Z
UID:7049-1643479200-1643479200@pawellisiecki.pl
SUMMARY:Orkiestra Samanta
DESCRIPTION:Wrocław
URL:https://pawellisiecki.pl/event/orkiestra-samanta-32/
LOCATION:Stary Klasztor\, Purkyniego 1\, Wrocław\, PL
END:VEVENT
BEGIN:VEVENT
DTSTART;TZID=Europe/Warsaw:20220107T200000
DTEND;TZID=Europe/Warsaw:20220107T200000
DTSTAMP:20260423T014450
CREATED:20240518T082946Z
LAST-MODIFIED:20240518T113224Z
UID:7050-1641585600-1641585600@pawellisiecki.pl
SUMMARY:Lisiecki Trio
DESCRIPTION:Wrocław
URL:https://pawellisiecki.pl/event/lisiecki-trio-7/
LOCATION:Koncert Prywatny\, Wrocław\, PL
END:VEVENT
BEGIN:VEVENT
DTSTART;TZID=Europe/Warsaw:20211211T203000
DTEND;TZID=Europe/Warsaw:20211211T203000
DTSTAMP:20260423T014450
CREATED:20240518T083001Z
LAST-MODIFIED:20240518T113233Z
UID:7051-1639254600-1639254600@pawellisiecki.pl
SUMMARY:Lisiecki Trio
DESCRIPTION:Wrocław
URL:https://pawellisiecki.pl/event/lisiecki-trio-8/
LOCATION:Sztuka Na Miejscu\, Łaciarska 4\, Wrocław\, PL
END:VEVENT
BEGIN:VEVENT
DTSTART;TZID=Europe/Warsaw:20211205T200000
DTEND;TZID=Europe/Warsaw:20211205T200000
DTSTAMP:20260423T014450
CREATED:20240518T083001Z
LAST-MODIFIED:20240518T113241Z
UID:7052-1638734400-1638734400@pawellisiecki.pl
SUMMARY:Basia Piotrowska
DESCRIPTION:Wrocław
URL:https://pawellisiecki.pl/event/basia-piotrowska-59/
LOCATION:Sztuka Na Miejscu\, Łaciarska 4\, Wrocław\, PL
END:VEVENT
BEGIN:VEVENT
DTSTART;TZID=Europe/Warsaw:20211119T200000
DTEND;TZID=Europe/Warsaw:20211119T200000
DTSTAMP:20260423T014450
CREATED:20240518T083001Z
LAST-MODIFIED:20240518T113249Z
UID:7053-1637352000-1637352000@pawellisiecki.pl
SUMMARY:Paweł Lisiecki Quartet
DESCRIPTION:Wrocław
URL:https://pawellisiecki.pl/event/pawel-lisiecki-quartet-10/
LOCATION:Vertigo Jazz Club & Restaurant\, Oławska 13\, Wrocław\, PL
END:VEVENT
BEGIN:VEVENT
DTSTART;TZID=Europe/Warsaw:20211107T140000
DTEND;TZID=Europe/Warsaw:20211107T140000
DTSTAMP:20260423T014450
CREATED:20240518T083001Z
LAST-MODIFIED:20240518T113310Z
UID:7054-1636293600-1636293600@pawellisiecki.pl
SUMMARY:Festspielhaus Neuschwanstein
DESCRIPTION:Füssen
URL:https://pawellisiecki.pl/event/festspielhaus-neuschwanstein/
LOCATION:Festspielhaus Neuschwanstein\, Alatseestrasse 38\, Füssen\, DE
END:VEVENT
BEGIN:VEVENT
DTSTART;TZID=Europe/Warsaw:20211104T190000
DTEND;TZID=Europe/Warsaw:20211104T190000
DTSTAMP:20260423T014450
CREATED:20240518T083002Z
LAST-MODIFIED:20240518T113319Z
UID:7055-1636052400-1636052400@pawellisiecki.pl
SUMMARY:Festspielhaus Neuschwanstein
DESCRIPTION:Füssen
URL:https://pawellisiecki.pl/event/festspielhaus-neuschwanstein-2/
LOCATION:Festspielhaus Neuschwanstein\, Alatseestrasse 38\, Füssen\, DE
END:VEVENT
BEGIN:VEVENT
DTSTART;TZID=Europe/Warsaw:20211103T180000
DTEND;TZID=Europe/Warsaw:20211103T180000
DTSTAMP:20260423T014450
CREATED:20240518T083016Z
LAST-MODIFIED:20240518T113324Z
UID:7056-1635962400-1635962400@pawellisiecki.pl
SUMMARY:Festspielhaus Neuschwanstein
DESCRIPTION:Füssen
URL:https://pawellisiecki.pl/event/festspielhaus-neuschwanstein-3/
LOCATION:Festspielhaus Neuschwanstein\, Alatseestrasse 38\, Füssen\, DE
END:VEVENT
BEGIN:VEVENT
DTSTART;TZID=Europe/Warsaw:20211102T160000
DTEND;TZID=Europe/Warsaw:20211102T160000
DTSTAMP:20260423T014450
CREATED:20240518T083016Z
LAST-MODIFIED:20240518T113330Z
UID:7057-1635868800-1635868800@pawellisiecki.pl
SUMMARY:Festspielhaus Neuschwanstein
DESCRIPTION:Füssen
URL:https://pawellisiecki.pl/event/festspielhaus-neuschwanstein-4/
LOCATION:Festspielhaus Neuschwanstein\, Alatseestrasse 38\, Füssen\, DE
END:VEVENT
BEGIN:VEVENT
DTSTART;TZID=Europe/Warsaw:20211101T163000
DTEND;TZID=Europe/Warsaw:20211101T163000
DTSTAMP:20260423T014450
CREATED:20240518T083016Z
LAST-MODIFIED:20240518T113335Z
UID:7058-1635784200-1635784200@pawellisiecki.pl
SUMMARY:Festspielhaus Neuschwanstein
DESCRIPTION:Füssen
URL:https://pawellisiecki.pl/event/festspielhaus-neuschwanstein-5/
LOCATION:Festspielhaus Neuschwanstein\, Alatseestrasse 38\, Füssen\, DE
END:VEVENT
BEGIN:VEVENT
DTSTART;TZID=Europe/Warsaw:20211031T143000
DTEND;TZID=Europe/Warsaw:20211031T143000
DTSTAMP:20260423T014450
CREATED:20240518T083016Z
LAST-MODIFIED:20240518T113340Z
UID:7059-1635690600-1635690600@pawellisiecki.pl
SUMMARY:Festspielhaus Neuschwanstein
DESCRIPTION:Füssen
URL:https://pawellisiecki.pl/event/festspielhaus-neuschwanstein-6/
LOCATION:Festspielhaus Neuschwanstein\, Alatseestrasse 38\, Füssen\, DE
END:VEVENT
BEGIN:VEVENT
DTSTART;TZID=Europe/Warsaw:20211030T143000
DTEND;TZID=Europe/Warsaw:20211030T143000
DTSTAMP:20260423T014450
CREATED:20240518T083016Z
LAST-MODIFIED:20240518T113345Z
UID:7060-1635604200-1635604200@pawellisiecki.pl
SUMMARY:Festspielhaus Neuschwanstein
DESCRIPTION:Füssen
URL:https://pawellisiecki.pl/event/festspielhaus-neuschwanstein-7/
LOCATION:Festspielhaus Neuschwanstein\, Alatseestrasse 38\, Füssen\, DE
END:VEVENT
BEGIN:VEVENT
DTSTART;TZID=Europe/Warsaw:20211029T193000
DTEND;TZID=Europe/Warsaw:20211029T193000
DTSTAMP:20260423T014450
CREATED:20240518T083030Z
LAST-MODIFIED:20240518T083030Z
UID:7061-1635535800-1635535800@pawellisiecki.pl
SUMMARY:Festspielhaus Neuschwanstein
DESCRIPTION:Füssen
URL:https://pawellisiecki.pl/event/festspielhaus-neuschwanstein-8/
END:VEVENT
END:VCALENDAR