BEGIN:VCALENDAR
VERSION:2.0
PRODID:-//Paweł Lisiecki - ECPv6.15.20//NONSGML v1.0//EN
CALSCALE:GREGORIAN
METHOD:PUBLISH
X-WR-CALNAME:Paweł Lisiecki
X-ORIGINAL-URL:https://pawellisiecki.pl
X-WR-CALDESC:Wydarzenia dla Paweł Lisiecki
REFRESH-INTERVAL;VALUE=DURATION:PT1H
X-Robots-Tag:noindex
X-PUBLISHED-TTL:PT1H
BEGIN:VTIMEZONE
TZID:Europe/Warsaw
BEGIN:DAYLIGHT
TZOFFSETFROM:+0100
TZOFFSETTO:+0200
TZNAME:CEST
DTSTART:20220327T010000
END:DAYLIGHT
BEGIN:STANDARD
TZOFFSETFROM:+0200
TZOFFSETTO:+0100
TZNAME:CET
DTSTART:20221030T010000
END:STANDARD
BEGIN:DAYLIGHT
TZOFFSETFROM:+0100
TZOFFSETTO:+0200
TZNAME:CEST
DTSTART:20230326T010000
END:DAYLIGHT
BEGIN:STANDARD
TZOFFSETFROM:+0200
TZOFFSETTO:+0100
TZNAME:CET
DTSTART:20231029T010000
END:STANDARD
BEGIN:DAYLIGHT
TZOFFSETFROM:+0100
TZOFFSETTO:+0200
TZNAME:CEST
DTSTART:20240331T010000
END:DAYLIGHT
BEGIN:STANDARD
TZOFFSETFROM:+0200
TZOFFSETTO:+0100
TZNAME:CET
DTSTART:20241027T010000
END:STANDARD
BEGIN:DAYLIGHT
TZOFFSETFROM:+0100
TZOFFSETTO:+0200
TZNAME:CEST
DTSTART:20250330T010000
END:DAYLIGHT
BEGIN:STANDARD
TZOFFSETFROM:+0200
TZOFFSETTO:+0100
TZNAME:CET
DTSTART:20251026T010000
END:STANDARD
END:VTIMEZONE
BEGIN:VEVENT
DTSTART;TZID=Europe/Warsaw:20240221T100000
DTEND;TZID=Europe/Warsaw:20240221T100000
DTSTAMP:20260422T062936
CREATED:20240517T223512Z
LAST-MODIFIED:20240518T082246Z
UID:6831-1708509600-1708509600@pawellisiecki.pl
SUMMARY:Teatr im. Heleny Modrzejewskiej w Legnicy
DESCRIPTION:Legnica
URL:https://pawellisiecki.pl/event/teatr-im-heleny-modrzejewskiej-w-legnicy-11/
END:VEVENT
BEGIN:VEVENT
DTSTART;TZID=Europe/Warsaw:20240215T190000
DTEND;TZID=Europe/Warsaw:20240215T190000
DTSTAMP:20260422T062936
CREATED:20240517T223513Z
LAST-MODIFIED:20240518T082246Z
UID:6832-1708023600-1708023600@pawellisiecki.pl
SUMMARY:Natalia Lubrano\, Wiktoria Wlaźlik\, Jakub Luboiński
DESCRIPTION:Wieluń
URL:https://pawellisiecki.pl/event/natalia-lubrano-wiktoria-wlazlik-jakub-luboinski/
END:VEVENT
BEGIN:VEVENT
DTSTART;TZID=Europe/Warsaw:20240214T200000
DTEND;TZID=Europe/Warsaw:20240214T200000
DTSTAMP:20260422T062936
CREATED:20240517T223713Z
LAST-MODIFIED:20240518T110434Z
UID:6833-1707940800-1707940800@pawellisiecki.pl
SUMMARY:Julia Szewczyk
DESCRIPTION:Wrocław
URL:https://pawellisiecki.pl/event/julia-szewczyk-10/
LOCATION:Messa Marina Kleczków\, Wrocław\, PL
END:VEVENT
BEGIN:VEVENT
DTSTART;TZID=Europe/Warsaw:20240211T150000
DTEND;TZID=Europe/Warsaw:20240211T150000
DTSTAMP:20260422T062936
CREATED:20240517T223713Z
LAST-MODIFIED:20240518T110442Z
UID:6834-1707663600-1707663600@pawellisiecki.pl
SUMMARY:Basia Piotrowska
DESCRIPTION:Wrocław
URL:https://pawellisiecki.pl/event/basia-piotrowska-14/
LOCATION:Vertigo Jazz Club & Restaurant\, Oławska 13\, Wrocław\, PL
END:VEVENT
BEGIN:VEVENT
DTSTART;TZID=Europe/Warsaw:20240211T120000
DTEND;TZID=Europe/Warsaw:20240211T120000
DTSTAMP:20260422T062936
CREATED:20240517T223713Z
LAST-MODIFIED:20240518T110446Z
UID:6835-1707652800-1707652800@pawellisiecki.pl
SUMMARY:Basia Piotrowska
DESCRIPTION:Wrocław
URL:https://pawellisiecki.pl/event/basia-piotrowska-15/
LOCATION:Vertigo Jazz Club & Restaurant\, Oławska 13\, Wrocław\, PL
END:VEVENT
BEGIN:VEVENT
DTSTART;TZID=Europe/Warsaw:20240209T180000
DTEND;TZID=Europe/Warsaw:20240209T180000
DTSTAMP:20260422T062936
CREATED:20240517T223713Z
LAST-MODIFIED:20240518T110458Z
UID:6836-1707501600-1707501600@pawellisiecki.pl
SUMMARY:Paweł Lisiecki Quartet
DESCRIPTION:Wrocław
URL:https://pawellisiecki.pl/event/pawel-lisiecki-quartet/
LOCATION:Ośrodek Działań Twórczych ŚWIATOWID\, Wrocław\, PL
END:VEVENT
BEGIN:VEVENT
DTSTART;TZID=Europe/Warsaw:20240204T130000
DTEND;TZID=Europe/Warsaw:20240204T130000
DTSTAMP:20260422T062936
CREATED:20240517T223714Z
LAST-MODIFIED:20240518T110504Z
UID:6837-1707051600-1707051600@pawellisiecki.pl
SUMMARY:Julia Szewczyk
DESCRIPTION:Wrocław
URL:https://pawellisiecki.pl/event/julia-szewczyk-11/
LOCATION:Vertigo Jazz Club & Restaurant\, Oławska 13\, Wrocław\, PL
END:VEVENT
BEGIN:VEVENT
DTSTART;TZID=Europe/Warsaw:20240127T190000
DTEND;TZID=Europe/Warsaw:20240127T190000
DTSTAMP:20260422T062936
CREATED:20240517T223914Z
LAST-MODIFIED:20240518T110512Z
UID:6838-1706382000-1706382000@pawellisiecki.pl
SUMMARY:Orkiestra Samanta
DESCRIPTION:Wrocław
URL:https://pawellisiecki.pl/event/orkiestra-samanta-11/
LOCATION:Stary Klasztor\, Purkyniego 1\, Wrocław\, PL
END:VEVENT
BEGIN:VEVENT
DTSTART;TZID=Europe/Warsaw:20240121T150000
DTEND;TZID=Europe/Warsaw:20240121T150000
DTSTAMP:20260422T062936
CREATED:20240517T223914Z
LAST-MODIFIED:20240518T110521Z
UID:6839-1705849200-1705849200@pawellisiecki.pl
SUMMARY:Basia Piotrowska
DESCRIPTION:Wrocław
URL:https://pawellisiecki.pl/event/basia-piotrowska-16/
LOCATION:Vertigo Jazz Club & Restaurant\, Oławska 13\, Wrocław\, PL
END:VEVENT
BEGIN:VEVENT
DTSTART;TZID=Europe/Warsaw:20240121T120000
DTEND;TZID=Europe/Warsaw:20240121T120000
DTSTAMP:20260422T062936
CREATED:20240517T223914Z
LAST-MODIFIED:20240518T110529Z
UID:6840-1705838400-1705838400@pawellisiecki.pl
SUMMARY:Basia Piotrowska
DESCRIPTION:Wrocław
URL:https://pawellisiecki.pl/event/basia-piotrowska-17/
LOCATION:Vertigo Jazz Club & Restaurant\, Oławska 13\, Wrocław\, PL
END:VEVENT
BEGIN:VEVENT
DTSTART;TZID=Europe/Warsaw:20240107T130000
DTEND;TZID=Europe/Warsaw:20240107T130000
DTSTAMP:20260422T062936
CREATED:20240517T223914Z
LAST-MODIFIED:20240518T110532Z
UID:6841-1704632400-1704632400@pawellisiecki.pl
SUMMARY:Julia Szewczyk
DESCRIPTION:Wrocław
URL:https://pawellisiecki.pl/event/julia-szewczyk-12/
LOCATION:Vertigo Jazz Club & Restaurant\, Oławska 13\, Wrocław\, PL
END:VEVENT
BEGIN:VEVENT
DTSTART;TZID=Europe/Warsaw:20231222T180000
DTEND;TZID=Europe/Warsaw:20231222T180000
DTSTAMP:20260422T062936
CREATED:20240517T223915Z
LAST-MODIFIED:20240518T082315Z
UID:6842-1703268000-1703268000@pawellisiecki.pl
SUMMARY:Teatr im. Heleny Modrzejewskiej w Legnicy
DESCRIPTION:Legnica
URL:https://pawellisiecki.pl/event/teatr-im-heleny-modrzejewskiej-w-legnicy-12/
END:VEVENT
BEGIN:VEVENT
DTSTART;TZID=Europe/Warsaw:20231221T100000
DTEND;TZID=Europe/Warsaw:20231221T100000
DTSTAMP:20260422T062936
CREATED:20240517T224116Z
LAST-MODIFIED:20240518T082330Z
UID:6843-1703152800-1703152800@pawellisiecki.pl
SUMMARY:Teatr im. Heleny Modrzejewskiej w Legnicy
DESCRIPTION:Legnica
URL:https://pawellisiecki.pl/event/teatr-im-heleny-modrzejewskiej-w-legnicy-13/
END:VEVENT
BEGIN:VEVENT
DTSTART;TZID=Europe/Warsaw:20231210T200000
DTEND;TZID=Europe/Warsaw:20231210T200000
DTSTAMP:20260422T062936
CREATED:20240517T224116Z
LAST-MODIFIED:20240518T110607Z
UID:6844-1702238400-1702238400@pawellisiecki.pl
SUMMARY:Tomasz Krajewski
DESCRIPTION:Wrocław
URL:https://pawellisiecki.pl/event/tomasz-krajewski-2/
LOCATION:Sztuka Na Miejscu\, Łaciarska 4\, Wrocław\, PL
END:VEVENT
BEGIN:VEVENT
DTSTART;TZID=Europe/Warsaw:20231209T110000
DTEND;TZID=Europe/Warsaw:20231209T110000
DTSTAMP:20260422T062936
CREATED:20240517T224117Z
LAST-MODIFIED:20240518T110618Z
UID:6845-1702119600-1702119600@pawellisiecki.pl
SUMMARY:Basia Piotrowska
DESCRIPTION:Wrocław
URL:https://pawellisiecki.pl/event/basia-piotrowska-18/
LOCATION:Ośrodek Postaw Twórczych Zamek\, Wrocław\, PL
END:VEVENT
BEGIN:VEVENT
DTSTART;TZID=Europe/Warsaw:20231207T190000
DTEND;TZID=Europe/Warsaw:20231207T190000
DTSTAMP:20260422T062936
CREATED:20240517T224117Z
LAST-MODIFIED:20240518T110624Z
UID:6846-1701975600-1701975600@pawellisiecki.pl
SUMMARY:Happy New Girls
DESCRIPTION:Wrocław
URL:https://pawellisiecki.pl/event/happy-new-girls/
LOCATION:Vertigo Jazz Club & Restaurant\, Oławska 13\, Wrocław\, PL
END:VEVENT
BEGIN:VEVENT
DTSTART;TZID=Europe/Warsaw:20231203T200000
DTEND;TZID=Europe/Warsaw:20231203T200000
DTSTAMP:20260422T062936
CREATED:20240517T224118Z
LAST-MODIFIED:20240518T110632Z
UID:6847-1701633600-1701633600@pawellisiecki.pl
SUMMARY:Wojtek Matyja
DESCRIPTION:Wrocław
URL:https://pawellisiecki.pl/event/wojtek-matyja/
LOCATION:Nietota\, Wrocław\, PL
END:VEVENT
BEGIN:VEVENT
DTSTART;TZID=Europe/Warsaw:20231203T150000
DTEND;TZID=Europe/Warsaw:20231203T150000
DTSTAMP:20260422T062936
CREATED:20240517T224316Z
LAST-MODIFIED:20240518T110639Z
UID:6848-1701615600-1701615600@pawellisiecki.pl
SUMMARY:Basia Piotrowska
DESCRIPTION:Wrocław
URL:https://pawellisiecki.pl/event/basia-piotrowska-19/
LOCATION:Vertigo Jazz Club & Restaurant\, Oławska 13\, Wrocław\, PL
END:VEVENT
BEGIN:VEVENT
DTSTART;TZID=Europe/Warsaw:20231203T120000
DTEND;TZID=Europe/Warsaw:20231203T120000
DTSTAMP:20260422T062936
CREATED:20240517T224316Z
LAST-MODIFIED:20240518T110644Z
UID:6849-1701604800-1701604800@pawellisiecki.pl
SUMMARY:Basia Piotrowska
DESCRIPTION:Wrocław
URL:https://pawellisiecki.pl/event/basia-piotrowska-20/
LOCATION:Vertigo Jazz Club & Restaurant\, Oławska 13\, Wrocław\, PL
END:VEVENT
BEGIN:VEVENT
DTSTART;TZID=Europe/Warsaw:20231124T190000
DTEND;TZID=Europe/Warsaw:20231124T190000
DTSTAMP:20260422T062936
CREATED:20240517T224316Z
LAST-MODIFIED:20240518T110655Z
UID:6850-1700852400-1700852400@pawellisiecki.pl
SUMMARY:Julia Szewczyk
DESCRIPTION:Wrocław
URL:https://pawellisiecki.pl/event/julia-szewczyk-13/
LOCATION:Messa Marina Kleczków\, Wrocław\, PL
END:VEVENT
BEGIN:VEVENT
DTSTART;TZID=Europe/Warsaw:20231119T150000
DTEND;TZID=Europe/Warsaw:20231119T150000
DTSTAMP:20260422T062936
CREATED:20240517T224316Z
LAST-MODIFIED:20240518T110707Z
UID:6851-1700406000-1700406000@pawellisiecki.pl
SUMMARY:Basia Piotrowska
DESCRIPTION:Wrocław
URL:https://pawellisiecki.pl/event/basia-piotrowska-21/
LOCATION:Vertigo Jazz Club & Restaurant\, Oławska 13\, Wrocław\, PL
END:VEVENT
BEGIN:VEVENT
DTSTART;TZID=Europe/Warsaw:20231119T120000
DTEND;TZID=Europe/Warsaw:20231119T120000
DTSTAMP:20260422T062936
CREATED:20240517T224316Z
LAST-MODIFIED:20240518T110711Z
UID:6852-1700395200-1700395200@pawellisiecki.pl
SUMMARY:Basia Piotrowska
DESCRIPTION:Wrocław
URL:https://pawellisiecki.pl/event/basia-piotrowska-22/
LOCATION:Vertigo Jazz Club & Restaurant\, Oławska 13\, Wrocław\, PL
END:VEVENT
BEGIN:VEVENT
DTSTART;TZID=Europe/Warsaw:20231112T190000
DTEND;TZID=Europe/Warsaw:20231112T190000
DTSTAMP:20260422T062936
CREATED:20240518T082400Z
LAST-MODIFIED:20240518T110716Z
UID:6931-1699815600-1699815600@pawellisiecki.pl
SUMMARY:Julia Szewczyk
DESCRIPTION:Wrocław
URL:https://pawellisiecki.pl/event/julia-szewczyk-14/
LOCATION:Vertigo Jazz Club & Restaurant\, Oławska 13\, Wrocław\, PL
END:VEVENT
BEGIN:VEVENT
DTSTART;TZID=Europe/Warsaw:20231029T180000
DTEND;TZID=Europe/Warsaw:20231029T180000
DTSTAMP:20260422T062936
CREATED:20240518T082400Z
LAST-MODIFIED:20240518T082400Z
UID:6932-1698602400-1698602400@pawellisiecki.pl
SUMMARY:Teatr im. Heleny Modrzejewskiej w Legnicy
DESCRIPTION:Legnica
URL:https://pawellisiecki.pl/event/teatr-im-heleny-modrzejewskiej-w-legnicy-14/
END:VEVENT
BEGIN:VEVENT
DTSTART;TZID=Europe/Warsaw:20231028T180000
DTEND;TZID=Europe/Warsaw:20231028T180000
DTSTAMP:20260422T062936
CREATED:20240518T082401Z
LAST-MODIFIED:20240518T082401Z
UID:6933-1698516000-1698516000@pawellisiecki.pl
SUMMARY:Teatr im. Heleny Modrzejewskiej w Legnicy
DESCRIPTION:Legnica
URL:https://pawellisiecki.pl/event/teatr-im-heleny-modrzejewskiej-w-legnicy-15/
END:VEVENT
BEGIN:VEVENT
DTSTART;TZID=Europe/Warsaw:20231027T180000
DTEND;TZID=Europe/Warsaw:20231027T180000
DTSTAMP:20260422T062936
CREATED:20240518T082401Z
LAST-MODIFIED:20240518T082401Z
UID:6934-1698429600-1698429600@pawellisiecki.pl
SUMMARY:Teatr im. Heleny Modrzejewskiej w Legnicy
DESCRIPTION:Legnica
URL:https://pawellisiecki.pl/event/teatr-im-heleny-modrzejewskiej-w-legnicy-16/
END:VEVENT
BEGIN:VEVENT
DTSTART;TZID=Europe/Warsaw:20231026T180000
DTEND;TZID=Europe/Warsaw:20231026T180000
DTSTAMP:20260422T062936
CREATED:20240518T082401Z
LAST-MODIFIED:20240518T082401Z
UID:6935-1698343200-1698343200@pawellisiecki.pl
SUMMARY:Teatr im. Heleny Modrzejewskiej w Legnicy
DESCRIPTION:Legnica
URL:https://pawellisiecki.pl/event/teatr-im-heleny-modrzejewskiej-w-legnicy-17/
END:VEVENT
BEGIN:VEVENT
DTSTART;TZID=Europe/Warsaw:20231022T150000
DTEND;TZID=Europe/Warsaw:20231022T150000
DTSTAMP:20260422T062936
CREATED:20240518T082416Z
LAST-MODIFIED:20240518T110801Z
UID:6936-1697986800-1697986800@pawellisiecki.pl
SUMMARY:Basia Piotrowska
DESCRIPTION:Wrocław
URL:https://pawellisiecki.pl/event/basia-piotrowska-23/
LOCATION:Vertigo Jazz Club & Restaurant\, Oławska 13\, Wrocław\, PL
END:VEVENT
BEGIN:VEVENT
DTSTART;TZID=Europe/Warsaw:20231022T120000
DTEND;TZID=Europe/Warsaw:20231022T120000
DTSTAMP:20260422T062936
CREATED:20240518T082416Z
LAST-MODIFIED:20240518T110807Z
UID:6937-1697976000-1697976000@pawellisiecki.pl
SUMMARY:Basia Piotrowska
DESCRIPTION:Wrocław
URL:https://pawellisiecki.pl/event/basia-piotrowska-24/
LOCATION:Vertigo Jazz Club & Restaurant\, Oławska 13\, Wrocław\, PL
END:VEVENT
BEGIN:VEVENT
DTSTART;TZID=Europe/Warsaw:20231020T190000
DTEND;TZID=Europe/Warsaw:20231020T190000
DTSTAMP:20260422T062936
CREATED:20240518T082417Z
LAST-MODIFIED:20240518T110813Z
UID:6938-1697828400-1697828400@pawellisiecki.pl
SUMMARY:Julia Szewczyk
DESCRIPTION:Wrocław
URL:https://pawellisiecki.pl/event/julia-szewczyk-15/
LOCATION:Messa Marina Kleczków\, Wrocław\, PL
END:VEVENT
END:VCALENDAR